BEGIN:VCALENDAR
VERSION:2.0
CALSCALE:GREGORIAN
PRODID:adamgibbons/ics
METHOD:PUBLISH
X-PUBLISHED-TTL:PT1H
BEGIN:VEVENT
UID:10@agenda.zeorri.eus
SUMMARY:Hamapiko Literatur Kluba
DTSTAMP:20260420T135624Z
DTSTART:20260513T163000Z
URL:https://agenda.zeorri.eus/event/hamapiko-literatur-kluba
LOCATION:Ibaiondo - Ibaiondo
STATUS:CONFIRMED
CATEGORIES:Hamapiko,Ibaiondo,Zeorri
BEGIN:VALARM
ACTION:DISPLAY
DESCRIPTION:Hamapiko Literatur Kluba
TRIGGER:-PT1H
END:VALARM
END:VEVENT
END:VCALENDAR
