BEGIN:VCALENDAR
VERSION:2.0
CALSCALE:GREGORIAN
PRODID:adamgibbons/ics
METHOD:PUBLISH
X-PUBLISHED-TTL:PT1H
BEGIN:VEVENT
UID:11@agenda.zeorri.eus
SUMMARY:Pintxopote Kulturalak - Biologoak
DTSTAMP:20260420T135623Z
DTSTART:20260508T180000Z
DTEND:20260508T193000Z
URL:https://agenda.zeorri.eus/event/pintxopote-kulturalak-biologoak
LOCATION:Txerrimuño - Lezo
STATUS:CONFIRMED
CATEGORIES:Pintxopote Kulturalaka,Piztu Lezo,Txerrimuño
BEGIN:VALARM
ACTION:DISPLAY
DESCRIPTION:Pintxopote Kulturalak - Biologoak
TRIGGER:-PT1H
END:VALARM
END:VEVENT
END:VCALENDAR
