BEGIN:VCALENDAR
VERSION:2.0
CALSCALE:GREGORIAN
PRODID:adamgibbons/ics
METHOD:PUBLISH
X-PUBLISHED-TTL:PT1H
BEGIN:VEVENT
UID:12@agenda.zeorri.eus
SUMMARY:Liburu Aurkezpena
DTSTAMP:20260424T150727Z
DTSTART:20260430T170000Z
URL:https://agenda.zeorri.eus/event/liburu-aurkezpena
LOCATION:Kultura Aretoa - Lezo
STATUS:CONFIRMED
CATEGORIES:Lezoko Udala,Lezo Kultura,Liburu Aurkezpena
END:VEVENT
END:VCALENDAR
